BEGIN:VCALENDAR
VERSION:2.0
PRODID:-//Squarespace Inc/Squarespace 6//v6//EN
BEGIN:VEVENT
UID:5de626e778ecef6237265c56@squarespace.com
DTSTAMP:20191206T115426Z
DTSTART:20191214T060000Z
DTEND:20191214T074500Z
SUMMARY:Bad Santa
GEO:-43.545064;172.636448
LOCATION:Catnap Cafe\, 391 Colombo Street\, Christchurch\, New Zealand
END:VEVENT
END:VCALENDAR
