BEGIN:VCALENDAR
VERSION:2.0
PRODID:-//Squarespace Inc/Squarespace 6//v6//EN
BEGIN:VEVENT
UID:5de2fce66e39282dec7f2121@squarespace.com
DTSTAMP:20191204T091225Z
DTSTART:20191221T060000Z
DTEND:20191221T074500Z
SUMMARY:Elf
GEO:-43.545064;172.636448
LOCATION:Catnap Cafe\, 391 Colombo Street\, Christchurch\, New Zealand
END:VEVENT
END:VCALENDAR
