BEGIN:VCALENDAR
VERSION:2.0
PRODID:-//Squarespace Inc/Squarespace 6//v6//EN
BEGIN:VEVENT
UID:5de628e178ecef6237267b87@squarespace.com
DTSTAMP:20191204T091158Z
DTSTART:20191219T060000Z
DTEND:20191219T073000Z
SUMMARY:The Nightmare Before Christmas
GEO:-43.545064;172.636448
LOCATION:Catnap Cafe\, 391 Colombo Street\, Christchurch\, New Zealand
END:VEVENT
END:VCALENDAR
